BEGIN:VCALENDAR
VERSION:2.0
PRODID:-//Verband Deutscher Rassetaubenzüchter e.V. - ECPv6.8.3//NONSGML v1.0//EN
CALSCALE:GREGORIAN
METHOD:PUBLISH
X-WR-CALNAME:Verband Deutscher Rassetaubenzüchter e.V.
X-ORIGINAL-URL:https://www.vdt-online.de
X-WR-CALDESC:Veranstaltungen für Verband Deutscher Rassetaubenzüchter e.V.
REFRESH-INTERVAL;VALUE=DURATION:PT1H
X-Robots-Tag:noindex
X-PUBLISHED-TTL:PT1H
BEGIN:VTIMEZONE
TZID:Europe/Berlin
BEGIN:DAYLIGHT
TZOFFSETFROM:+0100
TZOFFSETTO:+0200
TZNAME:CEST
DTSTART:20240331T010000
END:DAYLIGHT
BEGIN:STANDARD
TZOFFSETFROM:+0200
TZOFFSETTO:+0100
TZNAME:CET
DTSTART:20241027T010000
END:STANDARD
END:VTIMEZONE
BEGIN:VEVENT
DTSTART;TZID=Europe/Berlin:20241207T080000
DTEND;TZID=Europe/Berlin:20241208T170000
DTSTAMP:20260422T105303
CREATED:20240809T190504Z
LAST-MODIFIED:20240809T190505Z
UID:28781-1733558400-1733677200@www.vdt-online.de
SUMMARY:RASSEBEZOGENE EUROPASCHAU DERENGLISCHEN KRÖPFER UND ZWERGKRÖPFER
DESCRIPTION:Sehr geehrte Freunde\, liebe Züchter\,Der Tschechische Verband der Züchter von Kleintieren z.s. veranstaltet durch denSpezialklub der Züchter großer Kropftauben (Englische\, Pommersche\, Sattelbelatschte\,Sächsische) am 7. und 8. Dezember 2024 die Europäische Spezialausstellung für große undzwergige Englische Kropftauben. Diese Europäische Spezialausstellung findet im Rahmender Landesausstellung Moravia 2024 in Brünn auf dem Messegelände Veletrhy Brno a.s.\, ander Adresse: Výstaviště 405/1\, 603 00 Brno – Halle B\, statt. Die Europäische Spezialausstellungder Englischen Kropftauben und der zwergigen Kropftauben ist offiziell imAusstellungskalender der EE eingetragen. Wir würden uns sehr freuen\, wenn Sie diesegemeinsame Europäische Spezialausstellung mit Ihren Tieren unterstützen\, und freuen uns aufein Wiedersehen mit Ihnen in Brünn\, wo wir mit der Ausstellung von 300 – 400 EnglischenKropftauben rechnen.In meiner Funktion als Vorsitzender der Taubensektion des TschechischenZüchterverbandes möchte ich Sie und die Mitglieder Ihres Verbandes\, die in der EEzusammengeschlossen sind\, herzlich zur oben genannten Spezialausstellung der EnglischenKropftauben einladen. Ich möchte auf diesem Wege alle Züchter Ihres Verbandes ansprechen\,die eine Leidenschaft für eine der ältesten\, anspruchsvollsten und schönsten Taubenrgattungenhaben. Bitte leiten Sie dieses Einladungsschreiben an die Züchter der Englischen Kropftaubenin Ihrem nationalen Verband weiter.Die Europäischen Spezialausstellungen der Englischen Kropftauben haben in Europaeine lange Tradition\, zu der sicherlich auch der Züchter DDr. Leonhard Kühschelm ausÖsterreich beigetragen hat. Er war über viele Jahre hinweg der Organisator der EuropäischenAusstellungen der Englischen Kropftauben und unterstützt gleichzeitig auch unsereAusstellung in Brünn. Wir möchten der Europäischen Spezialausstellung wieder ihreBedeutung und ihr Ansehen zurückgeben. Es ist erfreulich\, die besten Tauben aus ganz Europaan einem Ort zu sehen.Gleichzeitig möchte ich Sie als Vertreter der nationalen Taubenzüchterverbände inIhrem Land darum bitten\, unsere Ausstellung auf Ihren Facebook-Seiten\, Ihren Websites oderin den Fachzeitschriften für Züchter\, die in Ihrem Land veröffentlicht werden\, zu bewerben.Mit züchterischen Grüßen und HochachtungIng. Petr Gajda & Josef Brachtl
URL:https://www.vdt-online.de/event/rassebezogene-europaschau-derenglischen-kroepfer-und-zwergkroepfer
CATEGORIES:Ausstellungen,Rassebezogene Europaschauen,Veranstaltungen
END:VEVENT
END:VCALENDAR